{
 "currentVersion": 10.81,
 "cimVersion": "2.8.0",
 "serviceDescription": "",
 "mapName": "EagleView2020_BM",
 "description": "",
 "copyrightText": "",
 "supportsDynamicLayers": false,
 "layers": [
  {
   "id": 0,
   "name": "14340E354288N.sid",
   "parentLayerId": -1,
   "defaultVisibility": true,
   "subLayerIds": null,
   "minScale": 0,
   "maxScale": 0,
   "type": "Raster Layer",
   "supportsDynamicLegends": true
  },
  {
   "id": 1,
   "name": "14498E407088N.sid",
   "parentLayerId": -1,
   "defaultVisibility": true,
   "subLayerIds": null,
   "minScale": 0,
   "maxScale": 0,
   "type": "Raster Layer",
   "supportsDynamicLegends": true
  },
  {
   "id": 2,
   "name": "14498E296208N.sid",
   "parentLayerId": -1,
   "defaultVisibility": true,
   "subLayerIds": null,
   "minScale": 0,
   "maxScale": 0,
   "type": "Raster Layer",
   "supportsDynamicLegends": true
  },
  {
   "id": 3,
   "name": "15132E296208N.sid",
   "parentLayerId": -1,
   "defaultVisibility": true,
   "subLayerIds": null,
   "minScale": 0,
   "maxScale": 0,
   "type": "Raster Layer",
   "supportsDynamicLegends": true
  },
  {
   "id": 4,
   "name": "15343E438768N.sid",
   "parentLayerId": -1,
   "defaultVisibility": true,
   "subLayerIds": null,
   "minScale": 0,
   "maxScale": 0,
   "type": "Raster Layer",
   "supportsDynamicLegends": true
  },
  {
   "id": 5,
   "name": "15290E306768N.sid",
   "parentLayerId": -1,
   "defaultVisibility": true,
   "subLayerIds": null,
   "minScale": 0,
   "maxScale": 0,
   "type": "Raster Layer",
   "supportsDynamicLegends": true
  },
  {
   "id": 6,
   "name": "15132E375408N.sid",
   "parentLayerId": -1,
   "defaultVisibility": true,
   "subLayerIds": null,
   "minScale": 0,
   "maxScale": 0,
   "type": "Raster Layer",
   "supportsDynamicLegends": true
  },
  {
   "id": 7,
   "name": "14921E391248N.sid",
   "parentLayerId": -1,
   "defaultVisibility": true,
   "subLayerIds": null,
   "minScale": 0,
   "maxScale": 0,
   "type": "Raster Layer",
   "supportsDynamicLegends": true
  },
  {
   "id": 8,
   "name": "14815E338448N.sid",
   "parentLayerId": -1,
   "defaultVisibility": true,
   "subLayerIds": null,
   "minScale": 0,
   "maxScale": 0,
   "type": "Raster Layer",
   "supportsDynamicLegends": true
  },
  {
   "id": 9,
   "name": "14498E296208N.sid",
   "parentLayerId": -1,
   "defaultVisibility": true,
   "subLayerIds": null,
   "minScale": 0,
   "maxScale": 0,
   "type": "Raster Layer",
   "supportsDynamicLegends": true
  },
  {
   "id": 10,
   "name": "14340E359568N.sid",
   "parentLayerId": -1,
   "defaultVisibility": true,
   "subLayerIds": null,
   "minScale": 0,
   "maxScale": 0,
   "type": "Raster Layer",
   "supportsDynamicLegends": true
  }
 ],
 "tables": [],
 "spatialReference": {
  "wkt": "PROJCS[\"NAD_1983_Pennsylvania_North_ftUS\",GEOGCS[\"GCS_NAD83_1986\",DATUM[\"D_North_American_1983\",SPHEROID[\"GRS_1980\",6378137.0,298.257222101]],PRIMEM[\"Greenwich\",0.0],UNIT[\"Degree\",0.0174532925199433]],PROJECTION[\"Lambert_Conformal_Conic\"],PARAMETER[\"false_easting\",1968500.0],PARAMETER[\"false_northing\",0.0],PARAMETER[\"central_meridian\",-77.75],PARAMETER[\"standard_parallel_1\",40.883333333333],PARAMETER[\"standard_parallel_2\",41.95],PARAMETER[\"latitude_of_origin\",40.166666666667],UNIT[\"US Survey Foot\",0.3048006096012192]]",
  "xyTolerance": 0.003280833333333333,
  "zTolerance": 0.001,
  "mTolerance": 0.001,
  "falseX": -118829700,
  "falseY": -96587800,
  "xyUnits": 3048.0060960121928,
  "falseZ": -100000,
  "zUnits": 10000,
  "falseM": -100000,
  "mUnits": 10000
 },
 "singleFusedMapCache": true,
 "tileInfo": {
  "rows": 256,
  "cols": 256,
  "dpi": 96,
  "format": "Mixed",
  "compressionQuality": 75,
  "origin": {
   "x": -1.1882933788060574E8,
   "y": 1.13962409665657E8
  },
  "spatialReference": {
   "wkt": "PROJCS[\"NAD_1983_Pennsylvania_North_ftUS\",GEOGCS[\"GCS_NAD83_1986\",DATUM[\"D_North_American_1983\",SPHEROID[\"GRS_1980\",6378137.0,298.257222101]],PRIMEM[\"Greenwich\",0.0],UNIT[\"Degree\",0.0174532925199433]],PROJECTION[\"Lambert_Conformal_Conic\"],PARAMETER[\"false_easting\",1968500.0],PARAMETER[\"false_northing\",0.0],PARAMETER[\"central_meridian\",-77.75],PARAMETER[\"standard_parallel_1\",40.883333333333],PARAMETER[\"standard_parallel_2\",41.95],PARAMETER[\"latitude_of_origin\",40.166666666667],UNIT[\"US Survey Foot\",0.3048006096012192]]",
   "xyTolerance": 0.003280833333333333,
   "zTolerance": 0.001,
   "mTolerance": 0.001,
   "falseX": -118829700,
   "falseY": -96587800,
   "xyUnits": 3048.0060960121928,
   "falseZ": -100000,
   "zUnits": 10000,
   "falseM": -100000,
   "mUnits": 10000
  },
  "lods": [
   {
    "level": 0,
    "resolution": 943733.1084422324,
    "scale": 1.087182715290882E9
   },
   {
    "level": 1,
    "resolution": 471866.5542211162,
    "scale": 5.43591357645441E8
   },
   {
    "level": 2,
    "resolution": 235933.2771105581,
    "scale": 2.717956788227205E8
   },
   {
    "level": 3,
    "resolution": 117966.63855527905,
    "scale": 1.3589783941136026E8
   },
   {
    "level": 4,
    "resolution": 58983.31927763952,
    "scale": 6.794891970568013E7
   },
   {
    "level": 5,
    "resolution": 29491.65963881976,
    "scale": 3.3974459852840066E7
   },
   {
    "level": 6,
    "resolution": 14745.82981940988,
    "scale": 1.6987229926420033E7
   },
   {
    "level": 7,
    "resolution": 7372.91490970494,
    "scale": 8493614.963210016
   },
   {
    "level": 8,
    "resolution": 3686.45745485247,
    "scale": 4246807.481605008
   },
   {
    "level": 9,
    "resolution": 1843.228727426235,
    "scale": 2123403.740802504
   },
   {
    "level": 10,
    "resolution": 921.6143637131175,
    "scale": 1061701.870401252
   },
   {
    "level": 11,
    "resolution": 460.80718185655877,
    "scale": 530850.935200626
   },
   {
    "level": 12,
    "resolution": 230.40359092827939,
    "scale": 265425.467600313
   },
   {
    "level": 13,
    "resolution": 115.20179546413969,
    "scale": 132712.7338001565
   },
   {
    "level": 14,
    "resolution": 57.600897732069846,
    "scale": 66356.36690007825
   },
   {
    "level": 15,
    "resolution": 28.800448866034923,
    "scale": 33178.18345003913
   },
   {
    "level": 16,
    "resolution": 14.400224433017462,
    "scale": 16589.091725019563
   },
   {
    "level": 17,
    "resolution": 7.200112216508731,
    "scale": 8294.545862509782
   },
   {
    "level": 18,
    "resolution": 3.6000561082543654,
    "scale": 4147.272931254891
   }
  ]
 },
 "initialExtent": {
  "xmin": 1319073.930036188,
  "ymin": 287759.99999999994,
  "xmax": 1686302.069963812,
  "ymax": 473616.00000000006,
  "spatialReference": {
   "wkt": "PROJCS[\"NAD_1983_Pennsylvania_North_ftUS\",GEOGCS[\"GCS_NAD83_1986\",DATUM[\"D_North_American_1983\",SPHEROID[\"GRS_1980\",6378137.0,298.257222101]],PRIMEM[\"Greenwich\",0.0],UNIT[\"Degree\",0.0174532925199433]],PROJECTION[\"Lambert_Conformal_Conic\"],PARAMETER[\"false_easting\",1968500.0],PARAMETER[\"false_northing\",0.0],PARAMETER[\"central_meridian\",-77.75],PARAMETER[\"standard_parallel_1\",40.883333333333],PARAMETER[\"standard_parallel_2\",41.95],PARAMETER[\"latitude_of_origin\",40.166666666667],UNIT[\"US Survey Foot\",0.3048006096012192]]",
   "xyTolerance": 0.003280833333333333,
   "zTolerance": 0.001,
   "mTolerance": 0.001,
   "falseX": -118829700,
   "falseY": -96587800,
   "xyUnits": 3048.0060960121928,
   "falseZ": -100000,
   "zUnits": 10000,
   "falseM": -100000,
   "mUnits": 10000
  }
 },
 "fullExtent": {
  "xmin": 1428768,
  "ymin": 296208,
  "xmax": 1571328,
  "ymax": 470448,
  "spatialReference": {
   "wkt": "PROJCS[\"NAD_1983_Pennsylvania_North_ftUS\",GEOGCS[\"GCS_NAD83_1986\",DATUM[\"D_North_American_1983\",SPHEROID[\"GRS_1980\",6378137.0,298.257222101]],PRIMEM[\"Greenwich\",0.0],UNIT[\"Degree\",0.0174532925199433]],PROJECTION[\"Lambert_Conformal_Conic\"],PARAMETER[\"false_easting\",1968500.0],PARAMETER[\"false_northing\",0.0],PARAMETER[\"central_meridian\",-77.75],PARAMETER[\"standard_parallel_1\",40.883333333333],PARAMETER[\"standard_parallel_2\",41.95],PARAMETER[\"latitude_of_origin\",40.166666666667],UNIT[\"US Survey Foot\",0.3048006096012192]]",
   "xyTolerance": 0.003280833333333333,
   "zTolerance": 0.001,
   "mTolerance": 0.001,
   "falseX": -118829700,
   "falseY": -96587800,
   "xyUnits": 3048.0060960121928,
   "falseZ": -100000,
   "zUnits": 10000,
   "falseM": -100000,
   "mUnits": 10000
  }
 },
 "units": "esriFeet",
 "supportedImageFormatTypes": "PNG32,PNG24,PNG,JPG,DIB,TIFF,EMF,PS,PDF,GIF,SVG,SVGZ,BMP",
 "documentInfo": {
  "Title": "Map7",
  "Author": "",
  "Comments": "",
  "Subject": "",
  "Category": "",
  "AntialiasingMode": "Fast",
  "TextAntialiasingMode": "Force",
  "Version": "2.8.0",
  "Keywords": ""
 },
 "supportedQueryFormats": "JSON, geoJSON, PBF",
 "referenceScale": 0.0,
 "supportsDatumTransformation": true,
 "archivingInfo": {
  "supportsHistoricMoment": false
 },
 "supportsClipping": true,
 "supportsSpatialFilter": true,
 "supportsTimeRelation": true,
 "supportsQueryDataElements": true,
 "maxRecordCount": 1000,
 "maxImageHeight": 4096,
 "maxImageWidth": 4096,
 "capabilities": "TilesOnly,Tilemap",
 "minScale": 308493,
 "maxScale": 0,
 "exportTilesAllowed": true,
 "maxExportTilesCount": 100000,
 "supportedExtensions": "",
 "serviceItemId": "34879c45564b4f0ba39db04205d8a584"
}
