View In:
ArcGIS JavaScript
ArcGIS Online Map Viewer
ArcGIS Earth
ArcMap
ArcGIS Pro
View Footprint In:
ArcGIS Online Map Viewer
Service Description:
Map Name: EagleView2020_BM
Legend
All Layers and Tables
Layers:
Description:
Service Item Id: 34879c45564b4f0ba39db04205d8a584
Copyright Text:
Spatial Reference:
PROJCS["NAD_1983_Pennsylvania_North_ftUS",GEOGCS["GCS_NAD83_1986",DATUM["D_North_American_1983",SPHEROID["GRS_1980",6378137.0,298.257222101]],PRIMEM["Greenwich",0.0],UNIT["Degree",0.0174532925199433]],PROJECTION["Lambert_Conformal_Conic"],PARAMETER["false_easting",1968500.0],PARAMETER["false_northing",0.0],PARAMETER["central_meridian",-77.75],PARAMETER["standard_parallel_1",40.883333333333],PARAMETER["standard_parallel_2",41.95],PARAMETER["latitude_of_origin",40.166666666667],UNIT["US Survey Foot",0.3048006096012192]]
Single Fused Map Cache: true
Tile Info:
- Height: 256
- Width: 256
- DPI: 96
-
Levels of Detail: 19
-
Level ID: 0
[ Start Tile, End Tile ]
- Resolution: 943733.1084422324
- Scale: 1.087182715290882E9
-
Level ID: 1
[ Start Tile, End Tile ]
- Resolution: 471866.5542211162
- Scale: 5.43591357645441E8
-
Level ID: 2
[ Start Tile, End Tile ]
- Resolution: 235933.2771105581
- Scale: 2.717956788227205E8
-
Level ID: 3
[ Start Tile, End Tile ]
- Resolution: 117966.63855527905
- Scale: 1.3589783941136026E8
-
Level ID: 4
[ Start Tile, End Tile ]
- Resolution: 58983.31927763952
- Scale: 6.794891970568013E7
-
Level ID: 5
[ Start Tile, End Tile ]
- Resolution: 29491.65963881976
- Scale: 3.3974459852840066E7
-
Level ID: 6
[ Start Tile, End Tile ]
- Resolution: 14745.82981940988
- Scale: 1.6987229926420033E7
-
Level ID: 7
[ Start Tile, End Tile ]
- Resolution: 7372.91490970494
- Scale: 8493614.963210016
-
Level ID: 8
[ Start Tile, End Tile ]
- Resolution: 3686.45745485247
- Scale: 4246807.481605008
-
Level ID: 9
[ Start Tile, End Tile ]
- Resolution: 1843.228727426235
- Scale: 2123403.740802504
-
Level ID: 10
[ Start Tile, End Tile ]
- Resolution: 921.6143637131175
- Scale: 1061701.870401252
-
Level ID: 11
[ Start Tile, End Tile ]
- Resolution: 460.80718185655877
- Scale: 530850.935200626
-
Level ID: 12
[ Start Tile, End Tile ]
- Resolution: 230.40359092827939
- Scale: 265425.467600313
-
Level ID: 13
[ Start Tile, End Tile ]
- Resolution: 115.20179546413969
- Scale: 132712.7338001565
-
Level ID: 14
[ Start Tile, End Tile ]
- Resolution: 57.600897732069846
- Scale: 66356.36690007825
-
Level ID: 15
[ Start Tile, End Tile ]
- Resolution: 28.800448866034923
- Scale: 33178.18345003913
-
Level ID: 16
[ Start Tile, End Tile ]
- Resolution: 14.400224433017462
- Scale: 16589.091725019563
-
Level ID: 17
[ Start Tile, End Tile ]
- Resolution: 7.200112216508731
- Scale: 8294.545862509782
-
Level ID: 18
[ Start Tile, End Tile ]
- Resolution: 3.6000561082543654
- Scale: 4147.272931254891
- Format: Mixed
- Compression Quality: 75.0
- Origin: X: -1.1882933788060574E8
Y: 1.13962409665657E8
- Spatial Reference: PROJCS["NAD_1983_Pennsylvania_North_ftUS",GEOGCS["GCS_NAD83_1986",DATUM["D_North_American_1983",SPHEROID["GRS_1980",6378137.0,298.257222101]],PRIMEM["Greenwich",0.0],UNIT["Degree",0.0174532925199433]],PROJECTION["Lambert_Conformal_Conic"],PARAMETER["false_easting",1968500.0],PARAMETER["false_northing",0.0],PARAMETER["central_meridian",-77.75],PARAMETER["standard_parallel_1",40.883333333333],PARAMETER["standard_parallel_2",41.95],PARAMETER["latitude_of_origin",40.166666666667],UNIT["US Survey Foot",0.3048006096012192]]
Initial Extent:
XMin: 1319073.930036188
YMin: 287759.99999999994
XMax: 1686302.069963812
YMax: 473616.00000000006
Spatial Reference: PROJCS["NAD_1983_Pennsylvania_North_ftUS",GEOGCS["GCS_NAD83_1986",DATUM["D_North_American_1983",SPHEROID["GRS_1980",6378137.0,298.257222101]],PRIMEM["Greenwich",0.0],UNIT["Degree",0.0174532925199433]],PROJECTION["Lambert_Conformal_Conic"],PARAMETER["false_easting",1968500.0],PARAMETER["false_northing",0.0],PARAMETER["central_meridian",-77.75],PARAMETER["standard_parallel_1",40.883333333333],PARAMETER["standard_parallel_2",41.95],PARAMETER["latitude_of_origin",40.166666666667],UNIT["US Survey Foot",0.3048006096012192]]
Full Extent:
XMin: 1428768
YMin: 296208
XMax: 1571328
YMax: 470448
Spatial Reference: PROJCS["NAD_1983_Pennsylvania_North_ftUS",GEOGCS["GCS_NAD83_1986",DATUM["D_North_American_1983",SPHEROID["GRS_1980",6378137.0,298.257222101]],PRIMEM["Greenwich",0.0],UNIT["Degree",0.0174532925199433]],PROJECTION["Lambert_Conformal_Conic"],PARAMETER["false_easting",1968500.0],PARAMETER["false_northing",0.0],PARAMETER["central_meridian",-77.75],PARAMETER["standard_parallel_1",40.883333333333],PARAMETER["standard_parallel_2",41.95],PARAMETER["latitude_of_origin",40.166666666667],UNIT["US Survey Foot",0.3048006096012192]]
Units: esriFeet
Supported Image Format Types: PNG32,PNG24,PNG,JPG,DIB,TIFF,EMF,PS,PDF,GIF,SVG,SVGZ,BMP
Document Info:
Title: Map7
Author:
Comments:
Subject:
Category:
Keywords:
AntialiasingMode: Fast
TextAntialiasingMode: Force
Supports Dynamic Layers: false
MaxRecordCount: 1000
MaxImageHeight: 4096
MaxImageWidth: 4096
Supported Query Formats: JSON, geoJSON, PBF
Supports Query Data Elements: true
Min Scale: 308493
Max Scale: 0
Supports Datum Transformation: true
Child Resources:
Info
Supported Operations:
EstimateExportTilesSize
ExportTiles
Return Updates